BEGIN:VCALENDAR
VERSION:2.0
PRODID:-//Sabre//Sabre VObject 4.5.8//EN
CALSCALE:GREGORIAN
BEGIN:VTIMEZONE
TZID:Europe/Zurich
X-LIC-LOCATION:Europe/Zurich
TZURL:http://tzurl.org/zoneinfo/Europe/Zurich
BEGIN:DAYLIGHT
TZOFFSETFROM:+0100
TZOFFSETTO:+0200
TZNAME:CEST
DTSTART:19810329T020000
RRULE:FREQ=YEARLY;BYMONTH=3;BYDAY=-1SU
END:DAYLIGHT
BEGIN:STANDARD
TZOFFSETFROM:+0200
TZOFFSETTO:+0100
TZNAME:CET
DTSTART:19961027T030000
RRULE:FREQ=YEARLY;BYMONTH=10;BYDAY=-1SU
END:STANDARD
END:VTIMEZONE
BEGIN:VEVENT
UID:news252@musikwissenschaft.philhist.unibas.ch
DTSTAMP;TZID=Europe/Zurich:20260302T105204
DTSTART;TZID=Europe/Zurich:20260310T181500
SUMMARY:Double Book Launch
DESCRIPTION:Dr. Petra Zeller DotlačilováPerformance Costume in 18th-Centu
 ry France: Louis-RenéBoquet between Tradition and Reform\, Bloomsbury\, 2
 026.\\r\\nDr. Federico LanzellottiCarlo Ambrogio Lonati: Violinista\, cant
 ante e compositorenell’Europa del Seicento\, Brepols\, 2026.\\r\\nGuest 
 artist: Mojca Gal\, dance and violin\\r\\nDate: Tuesday\, 10 March 2026Tim
 e: 18:15Venue: Vortragssaal\, Musikwissenschaftliches Seminar\,Petersgrabe
 n 27\, 4051 Basel
X-ALT-DESC:<p><strong>Dr. Petra Zeller Dotlačilová</strong><br /><i>Perfo
 rmance Costume in 18th-Century France: Louis-René</i><br /><i>Boquet betw
 een Tradition and Reform</i>\, Bloomsbury\, 2026.</p>\n<p><strong>Dr. Fede
 rico Lanzellotti</strong><br /><i>Carlo Ambrogio Lonati: Violinista\, cant
 ante e compositore</i><br /><i>nell’Europa del Seicento</i>\, Brepols\, 
 2026.</p>\n<p>Guest artist: <strong>Mojca Gal</strong>\, dance and violin<
 /p>\n<p>Date: Tuesday\, 10 March 2026<br />Time: 18:15<br />Venue: Vortrag
 ssaal\, Musikwissenschaftliches Seminar\,<br />Petersgraben 27\, 4051 Base
 l</p>
END:VEVENT
END:VCALENDAR
